BEGIN:VCALENDAR
VERSION:2.0
PRODID:-//Vicki's Cookies//EN
BEGIN:VEVENT
UID:cookieparty2026@vickiscookies.com
DTSTAMP:20261001T120000Z
DTSTART:20261212T210000Z
DTEND:20261213T010000Z
SUMMARY:Vicki's Annual Cookie Party
DESCRIPTION:Annual cookie party in memory of Vicki.
LOCATION:TBD
END:VEVENT
END:VCALENDAR
